BEGIN:VCALENDAR
VERSION:2.0
PRODID:-//NNJCF - ECPv6.15.20//NONSGML v1.0//EN
CALSCALE:GREGORIAN
METHOD:PUBLISH
X-ORIGINAL-URL:https://www.nnjcf.org
X-WR-CALDESC:Events for NNJCF
REFRESH-INTERVAL;VALUE=DURATION:PT1H
X-Robots-Tag:noindex
X-PUBLISHED-TTL:PT1H
BEGIN:VTIMEZONE
TZID:America/New_York
BEGIN:DAYLIGHT
TZOFFSETFROM:-0500
TZOFFSETTO:-0400
TZNAME:EDT
DTSTART:20240310T070000
END:DAYLIGHT
BEGIN:STANDARD
TZOFFSETFROM:-0400
TZOFFSETTO:-0500
TZNAME:EST
DTSTART:20241103T060000
END:STANDARD
BEGIN:DAYLIGHT
TZOFFSETFROM:-0500
TZOFFSETTO:-0400
TZNAME:EDT
DTSTART:20250309T070000
END:DAYLIGHT
BEGIN:STANDARD
TZOFFSETFROM:-0400
TZOFFSETTO:-0500
TZNAME:EST
DTSTART:20251102T060000
END:STANDARD
BEGIN:DAYLIGHT
TZOFFSETFROM:-0500
TZOFFSETTO:-0400
TZNAME:EDT
DTSTART:20260308T070000
END:DAYLIGHT
BEGIN:STANDARD
TZOFFSETFROM:-0400
TZOFFSETTO:-0500
TZNAME:EST
DTSTART:20261101T060000
END:STANDARD
END:VTIMEZONE
BEGIN:VEVENT
DTSTART;TZID=America/New_York:20250512T183000
DTEND;TZID=America/New_York:20250512T194500
DTSTAMP:20260425T125359
CREATED:20250507T193211Z
LAST-MODIFIED:20250507T193211Z
UID:23451-1747074600-1747079100@www.nnjcf.org
SUMMARY:May Hackensack Environmental Justice Alliance Meeting
DESCRIPTION:The May HEJA meeting will focus on ways to get more trees planted and maintained in Hackensack. Guest speaker: Josh Cohen\, Chair\, Hackensack Shade Tree Advisory Committee. He will talk about the city’s recent tree inventory. Then we’ll get into our work groups to strategize how HEJA can increase the tree canopy. Key questions to explore:\n*What areas of the city need more trees?*How do we convince skeptical residents about the value of trees in their communities?*What policies or incentives should the city adopt or strengthen to get more trees planted or maintained?\n\nQuestions about this meeting? Please contact HEJA Co-Chairs Amrisa Niranjan or Pedra O’Reilly Del Vechio at contactheja@gmail.com
URL:https://www.nnjcf.org/event/may-hackensack-environmental-justice-alliance-meeting/
LOCATION:Second Reformed Church\, 436 Union\, Hackensack\, 436 Union Street\, Hackensack\, NJ\, 07601\, United States
ATTACH;FMTTYPE=image/jpeg:https://www.nnjcf.org/wp-content/uploads/2025/05/Seedling_planting-tree-CC-license.jpg
END:VEVENT
BEGIN:VEVENT
DTSTART;TZID=America/New_York:20250520T140000
DTEND;TZID=America/New_York:20250520T150000
DTSTAMP:20260425T125359
CREATED:20250327T145842Z
LAST-MODIFIED:20250507T192251Z
UID:23330-1747749600-1747753200@www.nnjcf.org
SUMMARY:What is Your Theory of Change?
DESCRIPTION:What tangible changes do nonprofit programs create in the lives of the communities they serve? Too often\, nonprofit reporting focuses on what we have done (or outputs) without mentioning the outcomes and impact of our program services. This 45-minute presentation will demystify the Theory of Change\, a strategic tool vital for service providers and often required by funders. We’ll define it\, compare it to “logic models”\, identify its core components\, and explain contribution analysis\, empowering you to attribute outcomes to your work. You’ll leave with actionable steps to create your own Theory of Change and/or support your grantees and stakeholders in using it to represent and manage their programs. \nWhat you learn in this webinar will not only help you with evaluation\, it will help you with writing grants\, building allies\, and similar situations. \nThis webinar is free\, but please make a donation to the Northern New Jersey Community Foundation to support programs that benefit North Jersey communities. Please consider a $20 donation; anything you can give will be appreciated. \nAbout the speaker: Dr. Lisa Gale\, Principal\, LVG Strategy Group \nDr. Lisa V. Gale is a highly experienced social impact consultant\, educator\, and leader with over 30 years of experience driving positive change across the nonprofit\, government\, and philanthropic sectors. As the founder and principal of LVG Strategy Group\, she empowers organizations to achieve meaningful outcomes through strategic research\, program development\, and capacity building. \nDr. Gale is a recognized expert in evaluation and monitoring\, specializing in helping organizations measure and communicate their impact. Her career highlights include serving as Chief Program Officer at StoryCorps\, where she oversaw research documenting the impact of storytelling\, and as Deputy Vice President at Seedco\, directing initiatives to build the capacity of nonprofit organizations. She also served as Manager of Workforce Development for the Upper Manhattan Empowerment Zone and as Deputy Commissioner at the NYC Human Resources Administration\, demonstrating her ability to lead complex projects and drive positive change. \nDr. Gale holds a PhD in Social Welfare from The Graduate Center of the City University of New York\, an MSW from the Hunter College School of Social Work\, and a BBA from Baruch College. She is an adjunct faculty member at Fordham University Graduate School of Social Service\, where she shares her expertise with the next generation of social impact leaders. Based in Teaneck\, NJ\, Dr. Gale is deeply connected to her community and passionate about creating a more just and equitable world.
URL:https://www.nnjcf.org/event/what-is-your-theory-of-change/
LOCATION:online
ATTACH;FMTTYPE=image/jpeg:https://www.nnjcf.org/wp-content/uploads/2025/03/Lisa-Gale.jpg
ORGANIZER;CN="Northern New Jersey Community Foundation":MAILTO:nnjcf@nnjcf.org
END:VEVENT
END:VCALENDAR