BEGIN:VCALENDAR
VERSION:2.0
PRODID:-//NNJCF - ECPv6.15.20//NONSGML v1.0//EN
CALSCALE:GREGORIAN
METHOD:PUBLISH
X-WR-CALNAME:NNJCF
X-ORIGINAL-URL:https://www.nnjcf.org
X-WR-CALDESC:Events for NNJCF
REFRESH-INTERVAL;VALUE=DURATION:PT1H
X-Robots-Tag:noindex
X-PUBLISHED-TTL:PT1H
BEGIN:VTIMEZONE
TZID:America/New_York
BEGIN:DAYLIGHT
TZOFFSETFROM:-0500
TZOFFSETTO:-0400
TZNAME:EDT
DTSTART:20240310T070000
END:DAYLIGHT
BEGIN:STANDARD
TZOFFSETFROM:-0400
TZOFFSETTO:-0500
TZNAME:EST
DTSTART:20241103T060000
END:STANDARD
BEGIN:DAYLIGHT
TZOFFSETFROM:-0500
TZOFFSETTO:-0400
TZNAME:EDT
DTSTART:20250309T070000
END:DAYLIGHT
BEGIN:STANDARD
TZOFFSETFROM:-0400
TZOFFSETTO:-0500
TZNAME:EST
DTSTART:20251102T060000
END:STANDARD
BEGIN:DAYLIGHT
TZOFFSETFROM:-0500
TZOFFSETTO:-0400
TZNAME:EDT
DTSTART:20260308T070000
END:DAYLIGHT
BEGIN:STANDARD
TZOFFSETFROM:-0400
TZOFFSETTO:-0500
TZNAME:EST
DTSTART:20261101T060000
END:STANDARD
END:VTIMEZONE
BEGIN:VEVENT
DTSTART;TZID=America/New_York:20250310T183000
DTEND;TZID=America/New_York:20250310T200000
DTSTAMP:20260425T160046
CREATED:20241226T221541Z
LAST-MODIFIED:20250303T195310Z
UID:22773-1741631400-1741636800@www.nnjcf.org
SUMMARY:Hackensack Environmental Justice Alliance March 2025 meeting
DESCRIPTION:The Hackensack Environmental Justice Alliance\, a community group that focuses on helping people who are hardest hit by environmental issues\, will hold its monthly meeting Monday\, March 10\, from 6:30 to 7:45 pm. \nAt this meeting\, we will: \n*Discuss and choose projects that HEJA can undertake in 2025. \n*Get updates on the Green Infrastructure plan\, listening sessions and more. \nThe EJA is a great way to connect with others who want to make Hackensack greener\, cleaner and healthier for everyone.  Please join us. \nThere will be light refreshments served (snacks and soft drinks). \nTo learn more about the Green Infrastructure for Environmental Justice project\, visit this page. \nThe meeting is free and open to the public. Please consider making a donation to help support this project.  Any amount you can give will help. All donations made through this event will be used to help create a community rain garden or other environmental projects benefitting the community. \nThe Green Infrastructure for Environmental Justice project is produced by Northern New Jersey Community Foundation\, in partnership with the City of Hackensack\, Greater Bergen Community Action and Hackensack Public Schools\, as well as Hackensack residents and representatives of several organizations in Hackensack.  It is supported in part by The Funders Network\, AARP\, Valley Bank Foundation\, TD Bank\, M&T Bank Foundation\, PSE&G Foundation\, the Hackensack Rotary Club\, and other supporters. \nQuestions? Contact Leo Vazquez of the Northern New Jersey Community Foundation at leo@nnjcf.org or 201-568-5608\, x2.
URL:https://www.nnjcf.org/event/hackensack-environmental-justice-alliance-january-2025-meeting/
LOCATION:Second Reformed Church\, 436 Union\, Hackensack\, 436 Union Street\, Hackensack\, NJ\, 07601\, United States
ATTACH;FMTTYPE=image/jpeg:https://www.nnjcf.org/wp-content/uploads/2024/12/470668551_993624302796025_8063583387316500200_n.jpg
END:VEVENT
END:VCALENDAR