BEGIN:VCALENDAR
VERSION:2.0
PRODID:-//NNJCF - ECPv6.15.20//NONSGML v1.0//EN
CALSCALE:GREGORIAN
METHOD:PUBLISH
X-WR-CALNAME:NNJCF
X-ORIGINAL-URL:https://www.nnjcf.org
X-WR-CALDESC:Events for NNJCF
REFRESH-INTERVAL;VALUE=DURATION:PT1H
X-Robots-Tag:noindex
X-PUBLISHED-TTL:PT1H
BEGIN:VTIMEZONE
TZID:America/New_York
BEGIN:DAYLIGHT
TZOFFSETFROM:-0500
TZOFFSETTO:-0400
TZNAME:EDT
DTSTART:20220313T070000
END:DAYLIGHT
BEGIN:STANDARD
TZOFFSETFROM:-0400
TZOFFSETTO:-0500
TZNAME:EST
DTSTART:20221106T060000
END:STANDARD
BEGIN:DAYLIGHT
TZOFFSETFROM:-0500
TZOFFSETTO:-0400
TZNAME:EDT
DTSTART:20230312T070000
END:DAYLIGHT
BEGIN:STANDARD
TZOFFSETFROM:-0400
TZOFFSETTO:-0500
TZNAME:EST
DTSTART:20231105T060000
END:STANDARD
BEGIN:DAYLIGHT
TZOFFSETFROM:-0500
TZOFFSETTO:-0400
TZNAME:EDT
DTSTART:20240310T070000
END:DAYLIGHT
BEGIN:STANDARD
TZOFFSETFROM:-0400
TZOFFSETTO:-0500
TZNAME:EST
DTSTART:20241103T060000
END:STANDARD
END:VTIMEZONE
BEGIN:VEVENT
DTSTART;TZID=America/New_York:20230801T000000
DTEND;TZID=America/New_York:20230801T000000
DTSTAMP:20260426T003034
CREATED:20230623T165326Z
LAST-MODIFIED:20230623T165602Z
UID:20568-1690848000-1690848000@www.nnjcf.org
SUMMARY:Art Takes the Bench! Live Painting
DESCRIPTION:On Tuesday\, August 1\, (Time TBD)\, please join us at New Milford Borough Hall in New Milford to watch artists paint park benches in Art Takes the Bench! The benches will be installed in three public parks in the Borough with themes selected by community members. A goal of the project is to encourage more people to use the parks by beautifying the spaces with local art.
URL:https://www.nnjcf.org/event/art-takes-the-bench-live-painting/
LOCATION:New Milford Borough Hall\, 930 River Road\, New Milford\, NJ\, 07646\, United States
END:VEVENT
BEGIN:VEVENT
DTSTART;TZID=America/New_York:20230607T180000
DTEND;TZID=America/New_York:20230607T203000
DTSTAMP:20260426T003034
CREATED:20230425T135031Z
LAST-MODIFIED:20230428T151021Z
UID:20395-1686160800-1686169800@www.nnjcf.org
SUMMARY:American River screening and community conversation
DESCRIPTION:June 7\, 6 pm to 8:30 pm\n\nTake a trip along the Passaic River in American River\, an entertaining and inspiring film that explores stories by community members about one of the nation’s most troubled waterways. Chat with the film’s producer and learn about the Northern New Jersey Community Foundation’s environmental protection programs – and how you can get involved. Then feel free to join us afterwards for a fun reception at HACPAC.\n\nTo register or for more information: https://www.hacpac.org/event/american-river/
URL:https://www.nnjcf.org/event/american-river-screening-and-community-conversation/
LOCATION:Hackensack Performing Arts Center\, 102 State Street\, Hackensack\, NJ\, 07601\, United States
ATTACH;FMTTYPE=image/jpeg:https://www.nnjcf.org/wp-content/uploads/2023/04/8-AMERICAN-RIVER-Grafitti-©2021-Scott-Morris_Productions-All-Rights-Reserved-scaled-1.jpg
END:VEVENT
BEGIN:VEVENT
DTSTART;TZID=America/New_York:20230509T090000
DTEND;TZID=America/New_York:20230512T170000
DTSTAMP:20260426T003034
CREATED:20230425T134255Z
LAST-MODIFIED:20230428T145306Z
UID:20390-1683622800-1683910800@www.nnjcf.org
SUMMARY:Northeast & Mid-Atlantic Creative Placemaking Leadership Summit
DESCRIPTION:May 9 – 12\, 9 am to 5 pm\nConnect with artists\, community and cultural leaders\, grantmakers and others working to enhance communities through local arts and culture.  Learn better ways to engage communities\, manage gentrification\, protect the environment and more through creative placemaking.  Special offer: 50% off all tickets.  (A limited number of discounted tickets are available\, so please register soon.)\n\nTo register or for more information: https://www.cpcommunities.org/
URL:https://www.nnjcf.org/event/northeast-mid-atlantic-creative-placemaking-leadership-summit/
LOCATION:Hudson County Community College Culinary Conference Center\, 161 Newkirk Street\, Jersey City\, NJ\, 07306\, United States
ATTACH;FMTTYPE=image/webp:https://www.nnjcf.org/wp-content/uploads/2023/04/e8cba4_b20e7fda4a65487da71c7a2409403c9bmv2.webp
END:VEVENT
END:VCALENDAR