BEGIN:VCALENDAR
VERSION:2.0
PRODID:-//NNJCF - ECPv6.15.20//NONSGML v1.0//EN
CALSCALE:GREGORIAN
METHOD:PUBLISH
X-ORIGINAL-URL:https://www.nnjcf.org
X-WR-CALDESC:Events for NNJCF
REFRESH-INTERVAL;VALUE=DURATION:PT1H
X-Robots-Tag:noindex
X-PUBLISHED-TTL:PT1H
BEGIN:VTIMEZONE
TZID:America/New_York
BEGIN:DAYLIGHT
TZOFFSETFROM:-0500
TZOFFSETTO:-0400
TZNAME:EDT
DTSTART:20240310T070000
END:DAYLIGHT
BEGIN:STANDARD
TZOFFSETFROM:-0400
TZOFFSETTO:-0500
TZNAME:EST
DTSTART:20241103T060000
END:STANDARD
BEGIN:DAYLIGHT
TZOFFSETFROM:-0500
TZOFFSETTO:-0400
TZNAME:EDT
DTSTART:20250309T070000
END:DAYLIGHT
BEGIN:STANDARD
TZOFFSETFROM:-0400
TZOFFSETTO:-0500
TZNAME:EST
DTSTART:20251102T060000
END:STANDARD
BEGIN:DAYLIGHT
TZOFFSETFROM:-0500
TZOFFSETTO:-0400
TZNAME:EDT
DTSTART:20260308T070000
END:DAYLIGHT
BEGIN:STANDARD
TZOFFSETFROM:-0400
TZOFFSETTO:-0500
TZNAME:EST
DTSTART:20261101T060000
END:STANDARD
END:VTIMEZONE
BEGIN:VEVENT
DTSTART;TZID=America/New_York:20250908T183000
DTEND;TZID=America/New_York:20250908T200000
DTSTAMP:20260425T080015
CREATED:20250820T193836Z
LAST-MODIFIED:20250820T193836Z
UID:23834-1757356200-1757361600@www.nnjcf.org
SUMMARY:September Hackensack Environmental Justice Alliance meeting
DESCRIPTION:Join us for the next meeting of the Hackensack Environmental Justice Alliance. HEJA is a resident-led group working to address environmental issues in Hackensack\, such as flooding\, and make Hackensack greener\, cleaner and healthier for everyone. Everyone is welcome to join. \n​You can join in person at Second Reformed Church or online through a zoom link provided after you RSVP. \nIf you are joining in person\, please bring a non-perishable food item for the church’s social services program. \nIf you haven’t been to a HEJA meeting in a while\, this is a good meeting to go to. \nAgenda: \n\nWelcome and introductions\nSummer updates (reports from Pedra and Leo)\nPathways to the River project – introduction and discussion\nIdeas for use of seed funding – discussion and selection\n(If time allows) HEJA as an environmental hub for Hackensack – discussion\n(If time allows) Call for HEJA co-chairs\n\nQuestions? Please reach out to the co-chairs at Contactheja@gmail.com
URL:https://www.nnjcf.org/event/september-hackensack-environmental-justice-alliance-meeting/
LOCATION:Second Reformed Church\, 436 Union\, Hackensack\, 436 Union Street\, Hackensack\, NJ\, 07601\, United States
ATTACH;FMTTYPE=image/jpeg:https://www.nnjcf.org/wp-content/uploads/2025/08/HEJA-logo.jpg
END:VEVENT
END:VCALENDAR