BEGIN:VCALENDAR
VERSION:2.0
PRODID:-//NNJCF - ECPv6.15.20//NONSGML v1.0//EN
CALSCALE:GREGORIAN
METHOD:PUBLISH
X-WR-CALNAME:NNJCF
X-ORIGINAL-URL:https://www.nnjcf.org
X-WR-CALDESC:Events for NNJCF
REFRESH-INTERVAL;VALUE=DURATION:PT1H
X-Robots-Tag:noindex
X-PUBLISHED-TTL:PT1H
BEGIN:VTIMEZONE
TZID:America/New_York
BEGIN:DAYLIGHT
TZOFFSETFROM:-0500
TZOFFSETTO:-0400
TZNAME:EDT
DTSTART:20240310T070000
END:DAYLIGHT
BEGIN:STANDARD
TZOFFSETFROM:-0400
TZOFFSETTO:-0500
TZNAME:EST
DTSTART:20241103T060000
END:STANDARD
BEGIN:DAYLIGHT
TZOFFSETFROM:-0500
TZOFFSETTO:-0400
TZNAME:EDT
DTSTART:20250309T070000
END:DAYLIGHT
BEGIN:STANDARD
TZOFFSETFROM:-0400
TZOFFSETTO:-0500
TZNAME:EST
DTSTART:20251102T060000
END:STANDARD
BEGIN:DAYLIGHT
TZOFFSETFROM:-0500
TZOFFSETTO:-0400
TZNAME:EDT
DTSTART:20260308T070000
END:DAYLIGHT
BEGIN:STANDARD
TZOFFSETFROM:-0400
TZOFFSETTO:-0500
TZNAME:EST
DTSTART:20261101T060000
END:STANDARD
END:VTIMEZONE
BEGIN:VEVENT
DTSTART;TZID=America/New_York:20250605T180000
DTEND;TZID=America/New_York:20250605T203000
DTSTAMP:20260425T125542
CREATED:20250507T194248Z
LAST-MODIFIED:20250507T194248Z
UID:23454-1749146400-1749155400@www.nnjcf.org
SUMMARY:Community Changemaker Night 2025
DESCRIPTION:Join us for an evening of laughter\, networking\, hors-d’oeuvres and drinks\, feathering the “North Jersey Changemaker Awards.” The awards honor champions of community\, creativity and change. \nHosted by Bill Ervolino\, humorist and Bergen Record columnist \n2025 Changemaker Awardees: \n\nVisionary Leadership Award: South Orange Mayor Sheena Collum\nGreen and Healthy Places Leadership Award: Dr. Marion McClary\, Ph.D.\, Professor of Biology\, Chair of the Department of Biological Sciences\, Fairleigh Dickinson University\nCreative Communities Leadership Award: State Assemblyman Clinton Calabrese (District 36)\nBelonging and Opportunity Leadership Award: Gina Wilson and Lisa De Dominicis\, Fund Advisors for the Andrea Tilbian Halejian Memorial Fund\n\n  \n 
URL:https://www.nnjcf.org/event/community-changemaker-night-2025/
LOCATION:NJ
ATTACH;FMTTYPE=image/jpeg:https://www.nnjcf.org/wp-content/uploads/2025/03/ccn25-header.jpg
ORGANIZER;CN="Northern New Jersey Community Foundation":MAILTO:nnjcf@nnjcf.org
END:VEVENT
END:VCALENDAR