BEGIN:VCALENDAR
VERSION:2.0
PRODID:-//NNJCF - ECPv6.15.20//NONSGML v1.0//EN
CALSCALE:GREGORIAN
METHOD:PUBLISH
X-WR-CALNAME:NNJCF
X-ORIGINAL-URL:https://www.nnjcf.org
X-WR-CALDESC:Events for NNJCF
REFRESH-INTERVAL;VALUE=DURATION:PT1H
X-Robots-Tag:noindex
X-PUBLISHED-TTL:PT1H
BEGIN:VTIMEZONE
TZID:America/New_York
BEGIN:DAYLIGHT
TZOFFSETFROM:-0500
TZOFFSETTO:-0400
TZNAME:EDT
DTSTART:20240310T070000
END:DAYLIGHT
BEGIN:STANDARD
TZOFFSETFROM:-0400
TZOFFSETTO:-0500
TZNAME:EST
DTSTART:20241103T060000
END:STANDARD
BEGIN:DAYLIGHT
TZOFFSETFROM:-0500
TZOFFSETTO:-0400
TZNAME:EDT
DTSTART:20250309T070000
END:DAYLIGHT
BEGIN:STANDARD
TZOFFSETFROM:-0400
TZOFFSETTO:-0500
TZNAME:EST
DTSTART:20251102T060000
END:STANDARD
BEGIN:DAYLIGHT
TZOFFSETFROM:-0500
TZOFFSETTO:-0400
TZNAME:EDT
DTSTART:20260308T070000
END:DAYLIGHT
BEGIN:STANDARD
TZOFFSETFROM:-0400
TZOFFSETTO:-0500
TZNAME:EST
DTSTART:20261101T060000
END:STANDARD
END:VTIMEZONE
BEGIN:VEVENT
DTSTART;TZID=America/New_York:20250429T140000
DTEND;TZID=America/New_York:20250429T150000
DTSTAMP:20260425T142613
CREATED:20250327T145346Z
LAST-MODIFIED:20250327T145346Z
UID:23328-1745935200-1745938800@www.nnjcf.org
SUMMARY:North Jersey National Heritage Area online information session
DESCRIPTION:A National Heritage Area (NHA) is a federally-designated region that has made a special contribution to American history and culture. The designation is more than symbolic. It can generate over $100 million in economic impact\, support hundreds of jobs\, and bring up to $1 million in federal funds a year to the NHA\, and much more in economic activity.  NNJCF and its partners believe that North Jersey deserves that recognition\, and we are working to make it happen. \nJoin us to learn more about this effort and how you can be involved. To get background information on the North Jersey National Heritage Area\, please visit this link. \nThis session is led by NNJCF Executive Director Leo Vazquez\, who is organizing the effort to make the North Jersey National Heritage Area. You will have plenty of time to ask questions. \nGetting the NHA designation will take time and resources. We need your support to make it happen. Please consider donating at least $20 to this great cause when you RSVP.
URL:https://www.nnjcf.org/event/north-jersey-national-heritage-area-online-information-session/
LOCATION:online
ATTACH;FMTTYPE=image/jpeg:https://www.nnjcf.org/wp-content/uploads/2025/01/HIghlandmuralfinalcomp.jpg
ORGANIZER;CN="Northern New Jersey Community Foundation":MAILTO:nnjcf@nnjcf.org
END:VEVENT
END:VCALENDAR