BEGIN:VCALENDAR
VERSION:2.0
PRODID:-//NNJCF - ECPv6.15.20//NONSGML v1.0//EN
CALSCALE:GREGORIAN
METHOD:PUBLISH
X-ORIGINAL-URL:https://www.nnjcf.org
X-WR-CALDESC:Events for NNJCF
REFRESH-INTERVAL;VALUE=DURATION:PT1H
X-Robots-Tag:noindex
X-PUBLISHED-TTL:PT1H
BEGIN:VTIMEZONE
TZID:America/New_York
BEGIN:DAYLIGHT
TZOFFSETFROM:-0500
TZOFFSETTO:-0400
TZNAME:EDT
DTSTART:20240310T070000
END:DAYLIGHT
BEGIN:STANDARD
TZOFFSETFROM:-0400
TZOFFSETTO:-0500
TZNAME:EST
DTSTART:20241103T060000
END:STANDARD
BEGIN:DAYLIGHT
TZOFFSETFROM:-0500
TZOFFSETTO:-0400
TZNAME:EDT
DTSTART:20250309T070000
END:DAYLIGHT
BEGIN:STANDARD
TZOFFSETFROM:-0400
TZOFFSETTO:-0500
TZNAME:EST
DTSTART:20251102T060000
END:STANDARD
BEGIN:DAYLIGHT
TZOFFSETFROM:-0500
TZOFFSETTO:-0400
TZNAME:EDT
DTSTART:20260308T070000
END:DAYLIGHT
BEGIN:STANDARD
TZOFFSETFROM:-0400
TZOFFSETTO:-0500
TZNAME:EST
DTSTART:20261101T060000
END:STANDARD
END:VTIMEZONE
BEGIN:VEVENT
DTSTART;TZID=America/New_York:20250414T183000
DTEND;TZID=America/New_York:20250414T200000
DTSTAMP:20260425T160413
CREATED:20250327T143855Z
LAST-MODIFIED:20250327T143855Z
UID:23321-1744655400-1744660800@www.nnjcf.org
SUMMARY:April 2025 Hackensack Environmental Justice Alliance Meeting
DESCRIPTION:Join us for the next meeting of the Hackensack Environmental Justice Alliance. HEJA is a resident-led group working to address environmental issues in Hackensack\, such as flooding\, and make Hackensack greener\, cleaner and healthier for everyone. Everyone is welcome to join. \nIn this meeting\, we will: \n* Work on 2025 actions for HEJA to take on. This will include tactical (such as a bike lane)\, community outreach (such as listening sessions and public education) and policy (such as influencing the City Planning Board.) \n* Discuss your thoughts on what will go into the Green Infrastructure Plan for Hackensack. See and comment on plan overview here. \nYou can join us in person at the Hackensack Second Reformed Church or online via Zoom. (The link will be in the receipt email.) \nIf you are joining in person\, please bring a non-perishable food item for the church’s social services program. \nQuestions? Please reach out to the co-chairs at Contactheja@gmail.com
URL:https://www.nnjcf.org/event/april-2025-hackensack-environmental-justice-alliance-meeting/
LOCATION:Second Reformed Church\, 436 Union\, Hackensack\, 436 Union Street\, Hackensack\, NJ\, 07601\, United States
ATTACH;FMTTYPE=image/jpeg:https://www.nnjcf.org/wp-content/uploads/2024/12/hyacinth-bloom-at-rain-garden-scaled.jpg
END:VEVENT
END:VCALENDAR