BEGIN:VCALENDAR
VERSION:2.0
PRODID:-//NNJCF - ECPv6.15.20//NONSGML v1.0//EN
CALSCALE:GREGORIAN
METHOD:PUBLISH
X-WR-CALNAME:NNJCF
X-ORIGINAL-URL:https://www.nnjcf.org
X-WR-CALDESC:Events for NNJCF
REFRESH-INTERVAL;VALUE=DURATION:PT1H
X-Robots-Tag:noindex
X-PUBLISHED-TTL:PT1H
BEGIN:VTIMEZONE
TZID:America/New_York
BEGIN:DAYLIGHT
TZOFFSETFROM:-0500
TZOFFSETTO:-0400
TZNAME:EDT
DTSTART:20240310T070000
END:DAYLIGHT
BEGIN:STANDARD
TZOFFSETFROM:-0400
TZOFFSETTO:-0500
TZNAME:EST
DTSTART:20241103T060000
END:STANDARD
BEGIN:DAYLIGHT
TZOFFSETFROM:-0500
TZOFFSETTO:-0400
TZNAME:EDT
DTSTART:20250309T070000
END:DAYLIGHT
BEGIN:STANDARD
TZOFFSETFROM:-0400
TZOFFSETTO:-0500
TZNAME:EST
DTSTART:20251102T060000
END:STANDARD
BEGIN:DAYLIGHT
TZOFFSETFROM:-0500
TZOFFSETTO:-0400
TZNAME:EDT
DTSTART:20260308T070000
END:DAYLIGHT
BEGIN:STANDARD
TZOFFSETFROM:-0400
TZOFFSETTO:-0500
TZNAME:EST
DTSTART:20261101T060000
END:STANDARD
END:VTIMEZONE
BEGIN:VEVENT
DTSTART;TZID=America/New_York:20250205T130000
DTEND;TZID=America/New_York:20250205T140000
DTSTAMP:20260425T185358
CREATED:20241222T173301Z
LAST-MODIFIED:20241222T173301Z
UID:22721-1738760400-1738764000@www.nnjcf.org
SUMMARY:Putting the Community in Community Solar
DESCRIPTION:As our communities seek to address rising monthly utility bills and the effects of climate change\, NNJCF is pleased to bring you this webinar discussion on community solar. The NJ Board of Public Utilities introduced its New Jersey Community Solar Energy Program (CSEP) in 2018 to make solar savings available to renters and homeowners without upfront costs or expensive solar panels. \nJoin us for a conversation about the opportunities community solar can provide for municipalities\, community-based organizations\, and individual NJ households.  NNJCF partners Greater Bergen Community Action Inc. and Dimension Energy – one of the state’s most active community solar developers\, owners\, and operators – will discuss what community solar is and detail their partnership to enroll thousands of GBCA’s clients in the monthly savings provided by Dimension’s projects. \nTo date\, Dimension has energized three community solar projects in NNJCF’s service counties that now serve almost 1\,200 households – over 51% of which are low-to-moderate income. Around 2\,600 more households in NNJCF’s service counties will be able to access the benefits of community solar through eight more Dimension community solar projects that will come online in 2025-2026. We hope you will join us to learn more about how you might help expand access to these community solar savings and job opportunities.
URL:https://www.nnjcf.org/event/putting-the-community-in-community-solar/
LOCATION:online
ATTACH;FMTTYPE=image/jpeg:https://www.nnjcf.org/wp-content/uploads/2024/12/solar-panels-from-dimension-energy-site.jpg
ORGANIZER;CN="Northern New Jersey Community Foundation":MAILTO:nnjcf@nnjcf.org
END:VEVENT
END:VCALENDAR